BEGIN:VCALENDAR
VERSION:2.0
PRODID:icalendar-ruby
CALSCALE:GREGORIAN
METHOD:PUBLISH
BEGIN:VEVENT
DTSTAMP:20260425T204059Z
UID:19-384456@mapleave.org
DTSTART:20261025T143000Z
DTEND:20261025T160000Z
CLASS:PUBLIC
CREATED:20260425T161220
DESCRIPTION:Please join us for Worship every Sunday at 10:30am!
LAST-MODIFIED:20260425T161220
LOCATION:MAM Sanctuary
SUMMARY:Sunday Worship
URL;VALUE=URI:https://mapleave.org/events/sunday-worship/2026-10-25
ATTACH;FILENAME=DSC00653.jpg;FMTTYPE=image/jpeg:https://dq5pwpg1q8ru0.cloud
 front.net/2025/04/02/14/15/21/a092175b-8bf5-4138-b7ff-7b792d5c52cc/DSC0065
 3.jpg
END:VEVENT
END:VCALENDAR
